BEGIN:VCALENDAR
VERSION:2.0
PRODID:-//Aspley Leagues - ECPv5.0.1//NONSGML v1.0//EN
CALSCALE:GREGORIAN
METHOD:PUBLISH
X-WR-CALNAME:Aspley Leagues
X-ORIGINAL-URL:https://www.aspleyleaguesclub.com.au
X-WR-CALDESC:Events for Aspley Leagues
BEGIN:VTIMEZONE
TZID:Europe/Paris
BEGIN:DAYLIGHT
TZOFFSETFROM:+0100
TZOFFSETTO:+0200
TZNAME:CEST
DTSTART:20200329T010000
END:DAYLIGHT
BEGIN:STANDARD
TZOFFSETFROM:+0200
TZOFFSETTO:+0100
TZNAME:CET
DTSTART:20201025T010000
END:STANDARD
TZID:Australia/Brisbane
BEGIN:STANDARD
TZOFFSETFROM:+1000
TZOFFSETTO:+1000
TZNAME:AEST
DTSTART:20200101T000000
END:STANDARD
END:VTIMEZONE
BEGIN:VEVENT
DTSTART;TZID=Europe/Paris:20200301T140000
DTEND;TZID=Europe/Paris:20200301T171500
DTSTAMP:20200229T132256
CREATED:20190108T041902Z
LAST-MODIFIED:20190108T041902Z
UID:1975-1583071200-1583082900@www.aspleyleaguesclub.com.au
SUMMARY:Sunday Draw
DESCRIPTION:SUNDAY MEMBERSHIP DRAW\nDraws at 2pm\, 3pm\, 4pm & 5pm \nCommences at $1\,000 and jackpots each week until it reaches $5\,000! \nIt remains for 2 weeks and on the 3rd week it is drawn until a member is present. \nMeat Raffles\n5 x BBQ Packs\nTickets available at reception 1pm \n$1 a ticket\n6 for $5\n18 for $10 \nDraws commence @ 3pm \n
URL:https://www.aspleyleaguesclub.com.au/event/sunday-membership-draw/2020-03-01/
CATEGORIES:Whats On
ATTACH;FMTTYPE=image/jpeg:https://www.aspleyleaguesclub.com.au/content/uploads/2019/01/Sunday-Members-Draw.jpg
END:VEVENT
BEGIN:VEVENT
DTSTART;VALUE=DATE:20200302
DTEND;VALUE=DATE:20200303
DTSTAMP:20200229T132256
CREATED:20190218T062348Z
LAST-MODIFIED:20200207T020300Z
UID:1976-1583107200-1583193599@www.aspleyleaguesclub.com.au
SUMMARY:Top Shelf Spirits
DESCRIPTION:TOP SHELF MENU \nJohnnie Walker Blue\nChivas Regal\nBelvedere Vodka\nBlantons Gold Kentucky Bourbon\nDrambuie\nBacardi Reserve Ocho\nWild Turkey Rare Breed\nDiplomatico Rum\nSapphire Dry Gin \n
URL:https://www.aspleyleaguesclub.com.au/event/top-shelf-spirits/2020-03-02/
CATEGORIES:Special Events
ATTACH;FMTTYPE=image/jpeg:https://www.aspleyleaguesclub.com.au/content/uploads/2019/02/Top-Shelf-Menu-1.jpg
END:VEVENT
BEGIN:VEVENT
DTSTART;VALUE=DATE:20200302
DTEND;VALUE=DATE:20200303
DTSTAMP:20200229T132256
CREATED:20190218T062605Z
LAST-MODIFIED:20200207T020415Z
UID:1977-1583107200-1583193599@www.aspleyleaguesclub.com.au
SUMMARY:New Craft Beers
DESCRIPTION:Aspley Leagues Club Presents \nNEW CRAFT BEERS \nJames Squire – One Fifty Lashes\nFurphy – Refreshing Ale\nHeineken – Pilsner\nBurleigh Big Head \nNOW POURING \n
URL:https://www.aspleyleaguesclub.com.au/event/new-craft-beers/2020-03-02/
CATEGORIES:Special Events
ATTACH;FMTTYPE=image/jpeg:https://www.aspleyleaguesclub.com.au/content/uploads/2019/02/New-Craft-Beers.jpg
END:VEVENT
BEGIN:VEVENT
DTSTART;VALUE=DATE:20200303
DTEND;VALUE=DATE:20200304
DTSTAMP:20200229T132256
CREATED:20180821T071642Z
LAST-MODIFIED:20180821T071642Z
UID:1978-1583193600-1583279999@www.aspleyleaguesclub.com.au
SUMMARY:Bingo
DESCRIPTION:Two sessions daily on Monday and Thursday \nMonday Night & Sunday Night eyes down at 7.00pm \nBSG Rewards\nWednesday\, Thursday & Friday from 10.30am \nBig Bucks Bingo\nThursday Nights from 7.30pm | Friday & Saturday from 10.30am \nPhone Club for details. \n
URL:https://www.aspleyleaguesclub.com.au/event/bingo/2020-03-03/
CATEGORIES:Whats On
ATTACH;FMTTYPE=image/jpeg:https://www.aspleyleaguesclub.com.au/content/uploads/2018/08/Bingo.jpg
END:VEVENT
BEGIN:VEVENT
DTSTART;TZID=Europe/Paris:20200303T120000
DTEND;TZID=Europe/Paris:20200303T203000
DTSTAMP:20200229T132256
CREATED:20180824T050310Z
LAST-MODIFIED:20180824T050310Z
UID:1979-1583236800-1583267400@www.aspleyleaguesclub.com.au
SUMMARY:Membership Draw
DESCRIPTION:Membership draw commences at $10\,000! \nJackpots $500 weekly until it reaches a maximum of $20\,000! \nTuesday Night 6.30-8.30pm\nSaturday 1pm-3pm \n3 x $100 Cash draws to be won\nTo enter swipe your card in the players kiosk. \nTerms & conditions apply & are available at reception. Members must be present to win. \n
URL:https://www.aspleyleaguesclub.com.au/event/membership-draw/2020-03-03/
CATEGORIES:Whats On
ATTACH;FMTTYPE=image/jpeg:https://www.aspleyleaguesclub.com.au/content/uploads/2018/08/Members-Draw-TuesSat.jpg
END:VEVENT
BEGIN:VEVENT
DTSTART;TZID=Europe/Paris:20200305T193000
DTEND;TZID=Europe/Paris:20200305T213000
DTSTAMP:20200229T132256
CREATED:20191104T230737Z
LAST-MODIFIED:20191104T230737Z
UID:1980-1583436600-1583443800@www.aspleyleaguesclub.com.au
SUMMARY:New Mini Membership Draw
DESCRIPTION:Saturday 7.30pm – 9.30pm\nand Thursday 7.30pm – 9.30pm  \nDraw commences @ $2\,000\nand Jackpots $500 a week until it reaches $10\,000! \n
URL:https://www.aspleyleaguesclub.com.au/event/new-mini-membership-draw/2020-03-05/
CATEGORIES:Whats On
ATTACH;FMTTYPE=image/jpeg:https://www.aspleyleaguesclub.com.au/content/uploads/2019/11/Mini-Membership-Draw.jpg
END:VEVENT
BEGIN:VEVENT
DTSTART;TZID=Australia/Brisbane:20200308T130000
DTEND;TZID=Australia/Brisbane:20200308T200000
DTSTAMP:20200229T132256
CREATED:20200227T012457Z
LAST-MODIFIED:20200227T012457Z
UID:2207-1583672400-1583697600@www.aspleyleaguesclub.com.au
SUMMARY:UFC 248
DESCRIPTION:Middleweight Title\n\n\nAdesanya v Romero\nZhang v Joanna\n\n
URL:https://www.aspleyleaguesclub.com.au/event/ufc-248/
CATEGORIES:Special Events
ATTACH;FMTTYPE=image/png:https://www.aspleyleaguesclub.com.au/content/uploads/2020/02/UFC248_16x9.png
END:VEVENT
BEGIN:VEVENT
DTSTART;TZID=Europe/Paris:20200320T183000
DTEND;TZID=Europe/Paris:20200320T230000
DTSTAMP:20200229T132256
CREATED:20180822T020106Z
LAST-MODIFIED:20200220T235020Z
UID:1999-1584729000-1584745200@www.aspleyleaguesclub.com.au
SUMMARY:Friday Frenzy
DESCRIPTION:3 x $1000 Cash Draws\n3rd Friday of every month \nSwipe your membership card in the kiosk for entry into the draws. Play the pokies on the night and with every $5 turnover or $5 spend at any point of sale you are in the draw. \nDraw Times\n8.30pm | 9.30pm | 10.30pm \nCash Frenzy\n$1000 in 16 cash draws\n6.30pm – 11pm \n– \nFriday 21st February – Entertainment by Brendan Schick\nFriday 20th March – Entertainment by Ray Johnson\nFriday 17th April – Entertainment by Allan Cameron \n
URL:https://www.aspleyleaguesclub.com.au/event/friday-frenzy/2020-03-20/
CATEGORIES:Whats On
ATTACH;FMTTYPE=image/jpeg:https://www.aspleyleaguesclub.com.au/content/uploads/2018/08/Friday-Frenzy-2.jpg
END:VEVENT
BEGIN:VEVENT
DTSTART;TZID=Europe/Paris:20200324T193000
DTEND;TZID=Europe/Paris:20200324T200000
DTSTAMP:20200229T132256
CREATED:20190905T050420Z
LAST-MODIFIED:20200220T020719Z
UID:1713-1585078200-1585080000@www.aspleyleaguesclub.com.au
SUMMARY:Birthday Bash Draw
DESCRIPTION:$1000 cash each draw! \n24th February\n30th March\n27th April \nDrawn @ 7.30pm \n
URL:https://www.aspleyleaguesclub.com.au/event/birthday-bash-draw/
CATEGORIES:Whats On
ATTACH;FMTTYPE=image/jpeg:https://www.aspleyleaguesclub.com.au/content/uploads/2019/09/Birthday-Bash-Draw.jpg
END:VEVENT
BEGIN:VEVENT
DTSTART;TZID=Europe/Paris:20200327T193000
DTEND;TZID=Europe/Paris:20200327T213000
DTSTAMP:20200229T132256
CREATED:20190502T042713Z
LAST-MODIFIED:20190502T042713Z
UID:2010-1585337400-1585344600@www.aspleyleaguesclub.com.au
SUMMARY:Karaoke
DESCRIPTION:Last Friday of Each Month \n
URL:https://www.aspleyleaguesclub.com.au/event/karaoke/2020-03-27/
CATEGORIES:Whats On
ATTACH;FMTTYPE=image/jpeg:https://www.aspleyleaguesclub.com.au/content/uploads/2019/05/Karaoke-Aspley.jpg
END:VEVENT
BEGIN:VEVENT
DTSTART;VALUE=DATE:20200331
DTEND;VALUE=DATE:20200401
DTSTAMP:20200229T132256
CREATED:20190108T041305Z
LAST-MODIFIED:20190108T041305Z
UID:2017-1585612800-1585699199@www.aspleyleaguesclub.com.au
SUMMARY:$1\,000 Bonus Draw
DESCRIPTION:Monthly Members Bonus Draw\n$1\,000 on each night! \nTerms & Conditions apply and are available at reception. Members must be present to win. \n
URL:https://www.aspleyleaguesclub.com.au/event/1000-bonus-draw/2020-03-31/
CATEGORIES:Whats On
ATTACH;FMTTYPE=image/jpeg:https://www.aspleyleaguesclub.com.au/content/uploads/2019/01/1000-MembersBonus-Draw.jpg
END:VEVENT
BEGIN:VEVENT
DTSTART;TZID=Europe/Paris:20200331T203000
DTEND;TZID=Europe/Paris:20200331T210000
DTSTAMP:20200229T132256
CREATED:20181109T044819Z
LAST-MODIFIED:20181109T044819Z
UID:2018-1585686600-1585688400@www.aspleyleaguesclub.com.au
SUMMARY:Monster Meat Raffle
DESCRIPTION:Last Tuesday of every month. \n$1\,000 worth of meat – 25 draws! \n$1 a ticket\n6 for $5 | 18 for $10 | 44 for $20 \nTickets available at Reception on the night. \nDrawn from 8.30pm \n
URL:https://www.aspleyleaguesclub.com.au/event/monster-meat-raffle-2/2020-03-31/
CATEGORIES:Whats On
ATTACH;FMTTYPE=image/jpeg:https://www.aspleyleaguesclub.com.au/content/uploads/2018/11/Monster-Meat-Raffle-1.jpg
END:VEVENT
END:VCALENDAR